BEGIN:VCALENDAR
VERSION:2.0
PRODID:-//Virginia&#039;s 10th District Republican Committee - ECPv6.15.20//NONSGML v1.0//EN
CALSCALE:GREGORIAN
METHOD:PUBLISH
X-ORIGINAL-URL:https://vagop10.org
X-WR-CALDESC:Events for Virginia&#039;s 10th District Republican Committee
REFRESH-INTERVAL;VALUE=DURATION:PT1H
X-Robots-Tag:noindex
X-PUBLISHED-TTL:PT1H
BEGIN:VTIMEZONE
TZID:America/New_York
BEGIN:DAYLIGHT
TZOFFSETFROM:-0500
TZOFFSETTO:-0400
TZNAME:EDT
DTSTART:20240310T070000
END:DAYLIGHT
BEGIN:STANDARD
TZOFFSETFROM:-0400
TZOFFSETTO:-0500
TZNAME:EST
DTSTART:20241103T060000
END:STANDARD
BEGIN:DAYLIGHT
TZOFFSETFROM:-0500
TZOFFSETTO:-0400
TZNAME:EDT
DTSTART:20250309T070000
END:DAYLIGHT
BEGIN:STANDARD
TZOFFSETFROM:-0400
TZOFFSETTO:-0500
TZNAME:EST
DTSTART:20251102T060000
END:STANDARD
BEGIN:DAYLIGHT
TZOFFSETFROM:-0500
TZOFFSETTO:-0400
TZNAME:EDT
DTSTART:20260308T070000
END:DAYLIGHT
BEGIN:STANDARD
TZOFFSETFROM:-0400
TZOFFSETTO:-0500
TZNAME:EST
DTSTART:20261101T060000
END:STANDARD
END:VTIMEZONE
BEGIN:VEVENT
DTSTART;TZID=America/New_York:20250506T190000
DTEND;TZID=America/New_York:20250506T190000
DTSTAMP:20260421T192236
CREATED:20250425T194939Z
LAST-MODIFIED:20250425T194939Z
UID:690-1746558000-1746558000@vagop10.org
SUMMARY:Fairfax County Republican Committee May Meeting
DESCRIPTION:
URL:https://vagop10.org/event/fairfax-county-republican-committee-may-meeting/
LOCATION:South Lakes High School 11400 South Lakes Drive\, Reston 20191
END:VEVENT
BEGIN:VEVENT
DTSTART;TZID=America/New_York:20250506T190000
DTEND;TZID=America/New_York:20250506T190000
DTSTAMP:20260421T192236
CREATED:20250425T204922Z
LAST-MODIFIED:20250425T204922Z
UID:695-1746558000-1746558000@vagop10.org
SUMMARY:Fauquier County Republican Committee May Meeting
DESCRIPTION:
URL:https://vagop10.org/event/fauquier-county-republican-committee-may-meeting/
LOCATION:American Legion Post 72 345 Legion Drive\, Warrenton 20186
END:VEVENT
END:VCALENDAR