BEGIN:VCALENDAR
VERSION:2.0
PRODID:-//Virginia&#039;s 10th District Republican Committee - ECPv6.15.20//NONSGML v1.0//EN
CALSCALE:GREGORIAN
METHOD:PUBLISH
X-ORIGINAL-URL:https://vagop10.org
X-WR-CALDESC:Events for Virginia&#039;s 10th District Republican Committee
REFRESH-INTERVAL;VALUE=DURATION:PT1H
X-Robots-Tag:noindex
X-PUBLISHED-TTL:PT1H
BEGIN:VTIMEZONE
TZID:America/New_York
BEGIN:DAYLIGHT
TZOFFSETFROM:-0500
TZOFFSETTO:-0400
TZNAME:EDT
DTSTART:20240310T070000
END:DAYLIGHT
BEGIN:STANDARD
TZOFFSETFROM:-0400
TZOFFSETTO:-0500
TZNAME:EST
DTSTART:20241103T060000
END:STANDARD
BEGIN:DAYLIGHT
TZOFFSETFROM:-0500
TZOFFSETTO:-0400
TZNAME:EDT
DTSTART:20250309T070000
END:DAYLIGHT
BEGIN:STANDARD
TZOFFSETFROM:-0400
TZOFFSETTO:-0500
TZNAME:EST
DTSTART:20251102T060000
END:STANDARD
BEGIN:DAYLIGHT
TZOFFSETFROM:-0500
TZOFFSETTO:-0400
TZNAME:EDT
DTSTART:20260308T070000
END:DAYLIGHT
BEGIN:STANDARD
TZOFFSETFROM:-0400
TZOFFSETTO:-0500
TZNAME:EST
DTSTART:20261101T060000
END:STANDARD
END:VTIMEZONE
BEGIN:VEVENT
DTSTART;TZID=America/New_York:20250428T190000
DTEND;TZID=America/New_York:20250428T210000
DTSTAMP:20260421T231116
CREATED:20250425T193738Z
LAST-MODIFIED:20250425T193738Z
UID:681-1745866800-1745874000@vagop10.org
SUMMARY:Loudoun County Republican Committee April Meeting
DESCRIPTION:Monday\, April 28\, 7:00-9:00pm\nNew Member Orientation – 6:30pm (When you exit the check-in room and turn right down the hallway\, orientation is in the first room to your right.)\nBusiness Meeting – 7:00pm\nCascades Overlook Event Center (2nd Floor\, Suite 200)\n21453 Epicerie Plaza\, Sterling 20164 \nSocial Function – 5:30pm\nCome early to socialize with other members prior to the business meeting\nFire Works Pizza\n21475 Epicerie Plaza\, Sterling 20164
URL:https://vagop10.org/event/loudoun-county-republican-committee-april-meeting/
END:VEVENT
END:VCALENDAR